BEGIN:VCALENDAR
VERSION:2.0
PRODID:-//Squarespace Inc/Squarespace 6//v6//EN
BEGIN:VEVENT
UID:556d1a44e4b0d78223bd7bd4@squarespace.com
DTSTAMP:20160728T050835Z
DTSTART:20160726T013000Z
DTEND:20160727T063000Z
SUMMARY:Art of Assisting and Alignment
END:VEVENT
END:VCALENDAR
