BEGIN:VCALENDAR
VERSION:2.0
PRODID:-//Squarespace Inc/Squarespace 6//v6//EN
BEGIN:VEVENT
UID:5775ae9c8419c2a6d6a8bc90@squarespace.com
DTSTAMP:20160710T062403Z
DTSTART:20160701T000000Z
DTEND:20160709T010000Z
SUMMARY:AcroYoga Fundamentals with Two Feet Yoga
END:VEVENT
END:VCALENDAR
