BEGIN:VCALENDAR
VERSION:2.0
PRODID:-//Squarespace Inc/Squarespace 6//v6//EN
BEGIN:VEVENT
UID:5767987b03596e3a6cace44b@squarespace.com
DTSTAMP:20160906T102546Z
DTSTART:20160825T053000Z
DTEND:20161118T053000Z
SUMMARY:Body Love Yoga
END:VEVENT
END:VCALENDAR
