BEGIN:VCALENDAR
VERSION:2.0
PRODID:-//Squarespace Inc/Squarespace 6//v6//EN
BEGIN:VEVENT
UID:584e62f4b3db2b3cd0e3d727@squarespace.com
DTSTAMP:20170104T213032Z
DTSTART:20170122T003000Z
DTEND:20170122T033000Z
SUMMARY:Breathe.... with Mark Breadner
END:VEVENT
END:VCALENDAR
