BEGIN:VCALENDAR
VERSION:2.0
PRODID:-//Squarespace Inc/Squarespace 6//v6//EN
BEGIN:VEVENT
UID:58043846d2b857996caf0286@squarespace.com
DTSTAMP:20161017T024104Z
DTSTART:20161017T030000Z
DTEND:20161025T070000Z
SUMMARY:Physio & Yogi
END:VEVENT
END:VCALENDAR
