BEGIN:VCALENDAR
VERSION:2.0
PRODID:-//Squarespace Inc/Squarespace 6//v6//EN
BEGIN:VEVENT
UID:5775ad7a46c3c47936f19ae2@squarespace.com
DTSTAMP:20161001T053252Z
DTSTART:20161014T070000Z
DTEND:20161014T083000Z
SUMMARY:'Double Trouble' with Louis and Beth 
END:VEVENT
END:VCALENDAR
