BEGIN:VCALENDAR
VERSION:2.0
PRODID:-//Squarespace Inc/Squarespace 6//v6//EN
BEGIN:VEVENT
UID:577611e720099e7221f46e09@squarespace.com
DTSTAMP:20160701T065213Z
DTSTART:20160701T070000Z
DTEND:20160723T080000Z
SUMMARY:Prana Wheel Workshop with Sara Rice
END:VEVENT
END:VCALENDAR
