BEGIN:VCALENDAR
VERSION:2.0
PRODID:-//Squarespace Inc/Squarespace 6//v6//EN
BEGIN:VEVENT
UID:5963051d1b631b7856904154@squarespace.com
DTSTAMP:20170711T022123Z
DTSTART:20170813T000000Z
DTEND:20170813T031500Z
SUMMARY:Stretching Workshop - A Skill for Life
END:VEVENT
END:VCALENDAR
